BEGIN:VCALENDAR
VERSION:2.0
PRODID:-//Squarespace Inc/Squarespace 6//v6//EN
BEGIN:VEVENT
UID:5c8c96c60852293bdfbdae55@squarespace.com
DTSTAMP:20200128T133832Z
DTSTART:20190513T040000Z
DTEND:20190513T140000Z
SUMMARY:500 Free Pizza Margherita
GEO:-31.938596;115.869704
LOCATION:Ischia\, 2-4/500 Beaufort Street\, Highgate\, Australia
END:VEVENT
END:VCALENDAR
