BEGIN:VCALENDAR
VERSION:2.0
PRODID:-//Squarespace Inc/Squarespace 6//v6//EN
BEGIN:VEVENT
UID:5caedc39971a18242ad2bf7f@squarespace.com
DTSTAMP:20190411T061909Z
DTSTART:20190508T040000Z
DTEND:20190508T100000Z
SUMMARY:$10 Pizza Margherita
GEO:-31.938544;115.869761
LOCATION:Ischia Ristorante\, 2-4/500 Beaufort Street\, Highgate\, Australia
END:VEVENT
END:VCALENDAR
