BEGIN:VCALENDAR
VERSION:2.0
PRODID:-//Squarespace Inc/Squarespace 6//v6//EN
BEGIN:VEVENT
UID:5caee0429140b7ea8fa58e2e@squarespace.com
DTSTAMP:20190411T063616Z
DTSTART:20190530T040000Z
DTEND:20190530T100000Z
SUMMARY:$10 Pizza Margherita
GEO:-31.938544;115.869761
LOCATION:Ischia Ristorante\, 2-4/500 Beaufort Street\, Highgate\, Australia
END:VEVENT
END:VCALENDAR
