BEGIN:VCALENDAR
VERSION:2.0
PRODID:-//Squarespace Inc/Squarespace 6//v6//EN
BEGIN:VEVENT
UID:5d1488795f51040001b9d448@squarespace.com
DTSTAMP:20190627T091240Z
DTSTART:20190805T040000Z
DTEND:20190805T100000Z
SUMMARY:$10 Pizza Margherita
GEO:-31.938544;115.869761
LOCATION:Ischia Ristorante\, 2-4/500 Beaufort Street\, Highgate\, Australia
END:VEVENT
END:VCALENDAR
