BEGIN:VCALENDAR
VERSION:2.0
PRODID:-//Squarespace Inc/Squarespace 6//v6//EN
BEGIN:VEVENT
UID:5d4fc4f81a0e400001246cbe@squarespace.com
DTSTAMP:20190811T073438Z
DTSTART:20190902T040000Z
DTEND:20190902T100000Z
SUMMARY:$10 Pizza Margherita
GEO:-31.938544;115.869761
LOCATION:Ischia Ristorante\, 2-4/500 Beaufort Street\, Highgate\, Australia
END:VEVENT
END:VCALENDAR
