BEGIN:VCALENDAR
VERSION:2.0
PRODID:-//Squarespace Inc/Squarespace 6//v6//EN
BEGIN:VEVENT
UID:5cdbbfc4b2c6070001b49daa@squarespace.com
DTSTAMP:20190515T072925Z
DTSTART:20190626T040000Z
DTEND:20190626T100000Z
SUMMARY:$10 Pizza Margherita
GEO:-31.938544;115.869761
LOCATION:Ischia Ristorante\, 2-4/500 Beaufort Street\, Highgate\, Australia
END:VEVENT
END:VCALENDAR
