BEGIN:VCALENDAR
VERSION:2.0
PRODID:-//Squarespace Inc/Squarespace 6//v6//EN
BEGIN:VEVENT
UID:5c8f4e13fa0d605b84f372e8@squarespace.com
DTSTAMP:20190410T043527Z
DTSTART:20190410T040000Z
DTEND:20190410T100000Z
SUMMARY:25% off pasta dishes 
GEO:-31.938544;115.869761
LOCATION:Ischia\, 2-4/500 Beaufort Street\, Highgate\, Australia
END:VEVENT
END:VCALENDAR
