BEGIN:VCALENDAR
VERSION:2.0
PRODID:-//Squarespace Inc/Squarespace 6//v6//EN
BEGIN:VEVENT
UID:5c9cab554e17b60b5ac3c728@squarespace.com
DTSTAMP:20190411T061634Z
DTSTART:20190418T040000Z
DTEND:20190418T100000Z
SUMMARY:25% off pasta dishes 
GEO:-31.938544;115.869761
LOCATION:Ischia\, 2-4/500 Beaufort Street\, Highgate\, Australia
END:VEVENT
END:VCALENDAR
