BEGIN:VCALENDAR
VERSION:2.0
PRODID:-//Squarespace Inc/Squarespace 6//v6//EN
BEGIN:VEVENT
UID:5c9ca97bb208fc3c6aae8a7d@squarespace.com
DTSTAMP:20190411T062130Z
DTSTART:20190411T040000Z
DTEND:20190411T100000Z
SUMMARY:25% off pasta dishes 
GEO:-31.938544;115.869761
LOCATION:Ischia Ristorante\, 2-4/500 Beaufort Street\, Highgate\, Australia
END:VEVENT
END:VCALENDAR
