BEGIN:VCALENDAR
VERSION:2.0
PRODID:-//Squarespace Inc/Squarespace 6//v6//EN
BEGIN:VEVENT
UID:5c9cab2071c10b41b66d33d3@squarespace.com
DTSTAMP:20190328T110848Z
DTSTART:20190417T040000Z
DTEND:20190417T100000Z
SUMMARY:25% off pasta dishes 
GEO:-31.938544;115.869761
LOCATION:Ischia Ristorante\, 2-4/500 Beaufort Street\, Highgate\, Australia
END:VEVENT
END:VCALENDAR
