BEGIN:VCALENDAR
VERSION:2.0
PRODID:-//Squarespace Inc/Squarespace 6//v6//EN
BEGIN:VEVENT
UID:5c8c8b0a9140b76fe4e426eb@squarespace.com
DTSTAMP:20200128T133832Z
DTSTART:20190512T040000Z
DTEND:20190512T140000Z
SUMMARY:Love You Mum
GEO:-31.938596;115.869704
LOCATION:Ischia Ristorante\, 2-4/500 Beaufort Street\, Highgate\, Australia
END:VEVENT
END:VCALENDAR
