BEGIN:VCALENDAR
VERSION:2.0
PRODID:-//Squarespace Inc/Squarespace 6//v6//EN
BEGIN:VEVENT
UID:5c9c9f3ea4222fcf5f4eb3e3@squarespace.com
DTSTAMP:20190426T110109Z
DTSTART:20190427T040000Z
DTEND:20190427T140000Z
SUMMARY:10% off Delivery Orders
GEO:-31.938544;115.869761
LOCATION:Ischia\, 2-4/500 Beaufort Street\, Highgate\, Australia
END:VEVENT
END:VCALENDAR
