BEGIN:VCALENDAR
VERSION:2.0
PRODID:-//Squarespace Inc/Squarespace 6//v6//EN
BEGIN:VEVENT
UID:5c9c9f629b747a3ee25c27d3@squarespace.com
DTSTAMP:20190426T110123Z
DTSTART:20190428T040000Z
DTEND:20190428T140000Z
SUMMARY:10% off Delivery Orders
GEO:-31.938544;115.869761
LOCATION:Ischia\, 2-4/500 Beaufort Street\, Highgate\, Australia
END:VEVENT
END:VCALENDAR
