BEGIN:VCALENDAR
VERSION:2.0
PRODID:-//Squarespace Inc/Squarespace 6//v6//EN
BEGIN:VEVENT
UID:5c8c9b62eef1a12f1f93d017@squarespace.com
DTSTAMP:20190316T064758Z
DTSTART:20190419T040000Z
DTEND:20190419T140000Z
SUMMARY:Closed Today
GEO:-31.938596;115.869704
LOCATION:Ischia Ristorante\, 2-4/500 Beaufort Street\, Highgate\, Australia
END:VEVENT
END:VCALENDAR
