BEGIN:VCALENDAR
VERSION:2.0
PRODID:-//Squarespace Inc/Squarespace 6//v6//EN
BEGIN:VEVENT
UID:5c8c9c3c652dea144807b6b5@squarespace.com
DTSTAMP:20190515T072350Z
DTSTART:20190603T040000Z
DTEND:20190603T140000Z
SUMMARY:Closed Today
GEO:-31.938596;115.869704
LOCATION:Ischia Ristorante\, 2-4/500 Beaufort Street\, Highgate\, Australia
END:VEVENT
END:VCALENDAR
