BEGIN:VCALENDAR
VERSION:2.0
PRODID:-//Squarespace Inc/Squarespace 6//v6//EN
BEGIN:VEVENT
UID:5d4fc44b7db7530001c8f4a7@squarespace.com
DTSTAMP:20190811T073140Z
DTSTART:20190930T040000Z
DTEND:20190930T140000Z
SUMMARY:Closed Today
GEO:-31.938596;115.869704
LOCATION:Ischia Ristorante\, 2-4/500 Beaufort Street\, Highgate\, Australia
END:VEVENT
END:VCALENDAR
