BEGIN:VCALENDAR
VERSION:2.0
PRODID:-//Squarespace Inc/Squarespace 6//v6//EN
BEGIN:VEVENT
UID:5d9ef0fc5f240b48acd776ad@squarespace.com
DTSTAMP:20191010T085124Z
DTSTART:20191226T040000Z
DTEND:20191226T140000Z
SUMMARY:Closed Today
GEO:-31.938596;115.869704
LOCATION:Ischia Ristorante\, 2-4/500 Beaufort Street\, Highgate\, Australia
END:VEVENT
END:VCALENDAR
