BEGIN:VCALENDAR
VERSION:2.0
PRODID:-//Squarespace Inc/Squarespace 6//v6//EN
BEGIN:VEVENT
UID:5c9893e5fa0d60765c4d254c@squarespace.com
DTSTAMP:20200128T133832Z
DTSTART:20190501T020000Z
DTEND:20190501T150000Z
SUMMARY:Win 1.8 Meter Pizza on Instagram
GEO:-31.938544;115.869761
LOCATION:Ischia Ristorante\, 2-4/500 Beaufort Street\, Highgate\, Australia
END:VEVENT
END:VCALENDAR
