BEGIN:VCALENDAR
VERSION:2.0
PRODID:-//Squarespace Inc/Squarespace 6//v6//EN
BEGIN:VEVENT
UID:5c9c957853450a02c2cc10fc@squarespace.com
DTSTAMP:20190402T043505Z
DTSTART:20190402T040000Z
DTEND:20190402T140000Z
SUMMARY:Free Soft-Drink
GEO:-31.938544;115.869761
LOCATION:Ischia\, 2-4/500 Beaufort Street\, Highgate\, Australia
END:VEVENT
END:VCALENDAR
