BEGIN:VCALENDAR
VERSION:2.0
PRODID:-//Squarespace Inc/Squarespace 6//v6//EN
BEGIN:VEVENT
UID:5c9c9597e79c70abc5cc266c@squarespace.com
DTSTAMP:20190403T042037Z
DTSTART:20190403T040000Z
DTEND:20190403T140000Z
SUMMARY:Free Soft-Drink
GEO:-31.938544;115.869761
LOCATION:Ischia\, 2-4/500 Beaufort Street\, Highgate\, Australia
END:VEVENT
END:VCALENDAR
