BEGIN:VCALENDAR
VERSION:2.0
PRODID:-//Squarespace Inc/Squarespace 6//v6//EN
BEGIN:VEVENT
UID:5c9c95d271c10b41b66cb1d6@squarespace.com
DTSTAMP:20190331T091726Z
DTSTART:20190405T040000Z
DTEND:20190405T140000Z
SUMMARY:Free Soft-Drink
GEO:-31.938544;115.869761
LOCATION:Ischia\, 2-4/500 Beaufort Street\, Highgate\, Australia
END:VEVENT
END:VCALENDAR
