BEGIN:VCALENDAR
VERSION:2.0
PRODID:-//Squarespace Inc/Squarespace 6//v6//EN
BEGIN:VEVENT
UID:5d9eed0726ea9454e0439529@squarespace.com
DTSTAMP:20191010T083515Z
DTSTART:20190917T040000Z
DTEND:20190917T140000Z
SUMMARY:1/2 Price Mussels
GEO:-31.938596;115.869704
LOCATION:Ischia Ristorante\, 2-4/500 Beaufort Street\, Highgate\, Australia
END:VEVENT
END:VCALENDAR
