BEGIN:VCALENDAR
VERSION:2.0
PRODID:-//Squarespace Inc/Squarespace 6//v6//EN
BEGIN:VEVENT
UID:5cdbc0c424a694a8e46b3dea@squarespace.com
DTSTAMP:20190515T073350Z
DTSTART:20190618T040000Z
DTEND:20190618T140000Z
SUMMARY:1/2 Price Mussels
GEO:-31.938596;115.869704
LOCATION:Ischia Ristorante\, 2-4/500 Beaufort Street\, Highgate\, Australia
END:VEVENT
END:VCALENDAR
