BEGIN:VCALENDAR
VERSION:2.0
PRODID:-//Squarespace Inc/Squarespace 6//v6//EN
BEGIN:VEVENT
UID:5d146642299d560001e1bf0a@squarespace.com
DTSTAMP:20190627T064717Z
DTSTART:20190709T040000Z
DTEND:20190709T140000Z
SUMMARY:1/2 Price Mussels
GEO:-31.938596;115.869704
LOCATION:Ischia Ristorante\, 2-4/500 Beaufort Street\, Highgate\, Australia
END:VEVENT
END:VCALENDAR
