BEGIN:VCALENDAR
VERSION:2.0
PRODID:-//Squarespace Inc/Squarespace 6//v6//EN
BEGIN:VEVENT
UID:5d9ef04594ebda1793b8e06c@squarespace.com
DTSTAMP:20191010T084824Z
DTSTART:20191119T040000Z
DTEND:20191119T140000Z
SUMMARY:1/2 Price Mussels
GEO:-31.938596;115.869704
LOCATION:Ischia Ristorante\, 2-4/500 Beaufort Street\, Highgate\, Australia
END:VEVENT
END:VCALENDAR
