BEGIN:VCALENDAR
VERSION:2.0
PRODID:-//Squarespace Inc/Squarespace 6//v6//EN
BEGIN:VEVENT
UID:5d4fc2aa79425c0001797c04@squarespace.com
DTSTAMP:20190811T072511Z
DTSTART:20190820T040000Z
DTEND:20190820T140000Z
SUMMARY:1/2 Price Mussels
GEO:-31.938596;115.869704
LOCATION:Ischia Ristorante\, 2-4/500 Beaufort Street\, Highgate\, Australia
END:VEVENT
END:VCALENDAR
